BEGIN:VCALENDAR
VERSION:2.0
PRODID:-//NIHR Oxford Biomedical Research Centre - ECPv6.15.12.2//NONSGML v1.0//EN
CALSCALE:GREGORIAN
METHOD:PUBLISH
X-ORIGINAL-URL:https://oxfordbrc.nihr.ac.uk
X-WR-CALDESC:Events for NIHR Oxford Biomedical Research Centre
REFRESH-INTERVAL;VALUE=DURATION:PT1H
X-Robots-Tag:noindex
X-PUBLISHED-TTL:PT1H
BEGIN:VTIMEZONE
TZID:Europe/London
BEGIN:DAYLIGHT
TZOFFSETFROM:+0000
TZOFFSETTO:+0100
TZNAME:BST
DTSTART:20220327T010000
END:DAYLIGHT
BEGIN:STANDARD
TZOFFSETFROM:+0100
TZOFFSETTO:+0000
TZNAME:GMT
DTSTART:20221030T010000
END:STANDARD
BEGIN:DAYLIGHT
TZOFFSETFROM:+0000
TZOFFSETTO:+0100
TZNAME:BST
DTSTART:20230326T010000
END:DAYLIGHT
BEGIN:STANDARD
TZOFFSETFROM:+0100
TZOFFSETTO:+0000
TZNAME:GMT
DTSTART:20231029T010000
END:STANDARD
BEGIN:DAYLIGHT
TZOFFSETFROM:+0000
TZOFFSETTO:+0100
TZNAME:BST
DTSTART:20240331T010000
END:DAYLIGHT
BEGIN:STANDARD
TZOFFSETFROM:+0100
TZOFFSETTO:+0000
TZNAME:GMT
DTSTART:20241027T010000
END:STANDARD
END:VTIMEZONE
BEGIN:VEVENT
DTSTART;VALUE=DATE:20230411
DTEND;VALUE=DATE:20230415
DTSTAMP:20260421T092324
CREATED:20230127T140313Z
LAST-MODIFIED:20230127T140313Z
UID:19065-1681171200-1681516799@oxfordbrc.nihr.ac.uk
SUMMARY:Oxford BRC Writing Retreat for NMAHPS
DESCRIPTION:11\, 13\, 14 April\, 10am to 4pm \nThis three-day writing retreat is open to all nurses\, midwives and allied health professionals at any career stage\, working at OUH who need time and space to focus on writing without interruption and with support from a mentor. \nTo get the most out of the retreat\, it is important that you come ready to write from the very start of day one. Therefore\, you will need to send your mentor up to three SMART goals and the outcomes you aim to achieve by the end of the writing retreat. You also need to send them an outline of what you plan to write. \nThe core days will run from 10.00-16.00\, however you can arrive anytime from 8.30 to start writing and stay until 18.00. Members of the mentor team will be onsite during these hours. The workshop will be structured to include regular review and feedback slots\, and attendees should commit to submitting the output from the workshop within 3 months of the week ending. Lunch and refreshments will be provided on all three days. \n15 places available. Deadline for applications is 28th February 2023. \nTo apply click on the link: https://forms.office.com/e/KwNz7bUh96 \nFor any questions contact clair.merriman@ouh.nhs.uk
URL:https://oxfordbrc.nihr.ac.uk/brc-event/oxford-brc-writing-retreat-for-nmahps/
LOCATION:Merton College\, Merton St\,\, Oxford\, OX1 4JD
CATEGORIES:Training for Clinical Researchers
END:VEVENT
BEGIN:VEVENT
DTSTART;TZID=Europe/London:20230418T100000
DTEND;TZID=Europe/London:20230418T130000
DTSTAMP:20260421T092324
CREATED:20230321T123508Z
LAST-MODIFIED:20230321T123721Z
UID:19147-1681812000-1681822800@oxfordbrc.nihr.ac.uk
SUMMARY:Obtaining ethical and HRA approvals
DESCRIPTION:So\, you’ve got a great idea for a research study – but what approvals do you need before you can start? Who do you apply to? And how do you go about doing this? \nJoin an online presentation through Microsoft Teams. To book a place contact: rgea.training@admin.ox.ac.uk \nFor more details: researchsupport.admin.ox.ac.uk/ctrg/training/drop-in
URL:https://oxfordbrc.nihr.ac.uk/brc-event/obtaining-ethical-and-hra-approvals-4/
LOCATION:Online
CATEGORIES:Training for Clinical Researchers
END:VEVENT
BEGIN:VEVENT
DTSTART;TZID=Europe/London:20230420T091500
DTEND;TZID=Europe/London:20230420T170000
DTSTAMP:20260421T092324
CREATED:20230221T143510Z
LAST-MODIFIED:20230221T143753Z
UID:19114-1681982100-1682010000@oxfordbrc.nihr.ac.uk
SUMMARY:RDS Maintaining Momentum - From Doctoral to Postdoctoral Research
DESCRIPTION:This Research Design service workshop is aimed at Nurses\, Midwives and Allied Health Professionals (NMAHPs) and their managers who have completed or are currently completing a PhD\, helping them continue with research after finishing their doctorate. There will be a mix of presentations and one to one sessions\, the workshop will be a hybrid of online and face to face. \nFor more details\, follow this link.
URL:https://oxfordbrc.nihr.ac.uk/brc-event/rds-maintaining-momentum-from-doctoral-to-postdoctoral-research/
CATEGORIES:Training for Clinical Researchers
END:VEVENT
END:VCALENDAR