BEGIN:VCALENDAR
VERSION:2.0
PRODID:-//NIHR Oxford Biomedical Research Centre - ECPv6.15.12.2//NONSGML v1.0//EN
CALSCALE:GREGORIAN
METHOD:PUBLISH
X-WR-CALNAME:NIHR Oxford Biomedical Research Centre
X-ORIGINAL-URL:https://oxfordbrc.nihr.ac.uk
X-WR-CALDESC:Events for NIHR Oxford Biomedical Research Centre
REFRESH-INTERVAL;VALUE=DURATION:PT1H
X-Robots-Tag:noindex
X-PUBLISHED-TTL:PT1H
BEGIN:VTIMEZONE
TZID:Europe/London
BEGIN:DAYLIGHT
TZOFFSETFROM:+0000
TZOFFSETTO:+0100
TZNAME:BST
DTSTART:20230326T010000
END:DAYLIGHT
BEGIN:STANDARD
TZOFFSETFROM:+0100
TZOFFSETTO:+0000
TZNAME:GMT
DTSTART:20231029T010000
END:STANDARD
BEGIN:DAYLIGHT
TZOFFSETFROM:+0000
TZOFFSETTO:+0100
TZNAME:BST
DTSTART:20240331T010000
END:DAYLIGHT
BEGIN:STANDARD
TZOFFSETFROM:+0100
TZOFFSETTO:+0000
TZNAME:GMT
DTSTART:20241027T010000
END:STANDARD
BEGIN:DAYLIGHT
TZOFFSETFROM:+0000
TZOFFSETTO:+0100
TZNAME:BST
DTSTART:20250330T010000
END:DAYLIGHT
BEGIN:STANDARD
TZOFFSETFROM:+0100
TZOFFSETTO:+0000
TZNAME:GMT
DTSTART:20251026T010000
END:STANDARD
END:VTIMEZONE
BEGIN:VEVENT
DTSTART;TZID=Europe/London:20240123T120000
DTEND;TZID=Europe/London:20240123T133000
DTSTAMP:20260419T194312
CREATED:20230803T141606Z
LAST-MODIFIED:20230808T142118Z
UID:19480-1706011200-1706016600@oxfordbrc.nihr.ac.uk
SUMMARY:Involving Patients and the Public in Research
DESCRIPTION:Are you a researcher who wants to know more about Patient and Public Involvement (PPI)? \nAre you a researcher who is looking for reliable online resources to help get you started with PPI? \nAre you a PPI lead or responsible for PPI in your team or theme looking for  support and information? \nIf so\, NIHR Oxford Biomedical Resource Centre together with Oxford University’s Nuffield Department of Primary Care Health Sciences are pleased to invite you to a training session on how to involve patients and the public in your research work. \nJoin us online via Teams. You can sign up here: \nhttps://forms.microsoft.com/r/dpew0R4gE9 \nFor further information please email: \nAngeli.Vaid@ouh.nhs.uk or Polly.Kerr@phc.ox.ac.uk
URL:https://oxfordbrc.nihr.ac.uk/brc-event/involving-patients-and-the-public-in-research-8/
CATEGORIES:PPI Training for Researchers
ORGANIZER;CN="Angeli Vaid":MAILTO:Angeli.Vaid@ouh.nhs.uk
END:VEVENT
END:VCALENDAR