BEGIN:VCALENDAR
VERSION:2.0
PRODID:-//NIHR Oxford Biomedical Research Centre - ECPv6.15.12.2//NONSGML v1.0//EN
CALSCALE:GREGORIAN
METHOD:PUBLISH
X-ORIGINAL-URL:https://oxfordbrc.nihr.ac.uk
X-WR-CALDESC:Events for NIHR Oxford Biomedical Research Centre
REFRESH-INTERVAL;VALUE=DURATION:PT1H
X-Robots-Tag:noindex
X-PUBLISHED-TTL:PT1H
BEGIN:VTIMEZONE
TZID:Europe/London
BEGIN:DAYLIGHT
TZOFFSETFROM:+0000
TZOFFSETTO:+0100
TZNAME:BST
DTSTART:20240331T010000
END:DAYLIGHT
BEGIN:STANDARD
TZOFFSETFROM:+0100
TZOFFSETTO:+0000
TZNAME:GMT
DTSTART:20241027T010000
END:STANDARD
BEGIN:DAYLIGHT
TZOFFSETFROM:+0000
TZOFFSETTO:+0100
TZNAME:BST
DTSTART:20250330T010000
END:DAYLIGHT
BEGIN:STANDARD
TZOFFSETFROM:+0100
TZOFFSETTO:+0000
TZNAME:GMT
DTSTART:20251026T010000
END:STANDARD
BEGIN:DAYLIGHT
TZOFFSETFROM:+0000
TZOFFSETTO:+0100
TZNAME:BST
DTSTART:20260329T010000
END:DAYLIGHT
BEGIN:STANDARD
TZOFFSETFROM:+0100
TZOFFSETTO:+0000
TZNAME:GMT
DTSTART:20261025T010000
END:STANDARD
END:VTIMEZONE
BEGIN:VEVENT
DTSTART;TZID=Europe/London:20250108T130000
DTEND;TZID=Europe/London:20250108T133000
DTSTAMP:20260424T234619
CREATED:20240815T140345Z
LAST-MODIFIED:20240815T140345Z
UID:20383-1736341200-1736343000@oxfordbrc.nihr.ac.uk
SUMMARY:NIHR Oxford BRC Statistics Hub Lunchtime Seminar: Sample sizes for clinical trials - an overview
DESCRIPTION:This is the fifth in a series of eight lunchtime seminars organised by the NIHR Oxford BRC Statistics Hub. Each seminar is 20 minutes long followed by 10 minutes of Q&A\, and will be held via Microsoft Teams. These seminars are open to all in the University of Oxford and Oxford University Hospitals NHS Trust. \n  \nSample sizes for clinical trials – an overview \nNicholas Peckham\, OCTRU Senior Statistician \nWednesday 8th January 2025\, 1:00-1:30pm \nFurther details coming soon. \nNo registration is required. \nClick here to join the session.
URL:https://oxfordbrc.nihr.ac.uk/brc-event/nihr-oxford-brc-statistics-hub-lunchtime-seminar-sample-sizes-for-clinical-trials-an-overview/
LOCATION:Online
CATEGORIES:Academic Events,Training Events & Courses
END:VEVENT
BEGIN:VEVENT
DTSTART;TZID=Europe/London:20250122T110000
DTEND;TZID=Europe/London:20250122T123000
DTSTAMP:20260424T234619
CREATED:20241002T162827Z
LAST-MODIFIED:20250106T131422Z
UID:20484-1737543600-1737549000@oxfordbrc.nihr.ac.uk
SUMMARY:An introduction to public involvement in research
DESCRIPTION:Are you a researcher who wants to know more about Patient and Public Involvement (PPI)?\n\nAre you a researcher who is looking for reliable online resources to help get you started with PPI?\n\nAre you a PPI lead or responsible for PPI in your team or theme looking for  support and information?\n\nIf so\, NIHR Oxford Biomedical Research Centre together with Oxford University’s Nuffield Department of Primary Care Health Sciences are pleased to invite you to a training session on how to involve patients and the public in your research work.\n\nJoin us online via Teams. You can sign up here:\n\nhttps://forms.microsoft.com/r/dpew0R4gE9\n\nFor further information please email:\n\nAngeli.Vaid@ouh.nhs.uk or Polly.Kerr@phc.ox.ac.uk
URL:https://oxfordbrc.nihr.ac.uk/brc-event/an-introduction-to-public-involvement-in-research/
CATEGORIES:PPI Training for Researchers
END:VEVENT
END:VCALENDAR