BEGIN:VCALENDAR
VERSION:2.0
PRODID:-//NIHR Oxford Biomedical Research Centre - ECPv6.15.12.2//NONSGML v1.0//EN
CALSCALE:GREGORIAN
METHOD:PUBLISH
X-ORIGINAL-URL:https://oxfordbrc.nihr.ac.uk
X-WR-CALDESC:Events for NIHR Oxford Biomedical Research Centre
REFRESH-INTERVAL;VALUE=DURATION:PT1H
X-Robots-Tag:noindex
X-PUBLISHED-TTL:PT1H
BEGIN:VTIMEZONE
TZID:Europe/London
BEGIN:DAYLIGHT
TZOFFSETFROM:+0000
TZOFFSETTO:+0100
TZNAME:BST
DTSTART:20220327T010000
END:DAYLIGHT
BEGIN:STANDARD
TZOFFSETFROM:+0100
TZOFFSETTO:+0000
TZNAME:GMT
DTSTART:20221030T010000
END:STANDARD
BEGIN:DAYLIGHT
TZOFFSETFROM:+0000
TZOFFSETTO:+0100
TZNAME:BST
DTSTART:20230326T010000
END:DAYLIGHT
BEGIN:STANDARD
TZOFFSETFROM:+0100
TZOFFSETTO:+0000
TZNAME:GMT
DTSTART:20231029T010000
END:STANDARD
BEGIN:DAYLIGHT
TZOFFSETFROM:+0000
TZOFFSETTO:+0100
TZNAME:BST
DTSTART:20240331T010000
END:DAYLIGHT
BEGIN:STANDARD
TZOFFSETFROM:+0100
TZOFFSETTO:+0000
TZNAME:GMT
DTSTART:20241027T010000
END:STANDARD
END:VTIMEZONE
BEGIN:VEVENT
DTSTART;TZID=Europe/London:20231011T183000
DTEND;TZID=Europe/London:20231011T191500
DTSTAMP:20260423T143615
CREATED:20230920T112208Z
LAST-MODIFIED:20230922T084057Z
UID:19551-1697049000-1697051700@oxfordbrc.nihr.ac.uk
SUMMARY:PUBLIC TALK: Technology for acute medical care at home -can we really replace the hospital?
DESCRIPTION:FREE entry\, no booking required. Refreshments at 6.15pm for a 6.30pm start. \nEvent Overview\nOne of the emerging priorities of the UK’s health and care system is allowing people to access care closer to home\, even receiving hospital-level care in their own homes and care homes. But can we truly replace the hospital with innovative technology? \nIn this talk\, Professor Dan Lasserson will outline how digital innovations and technologies that have benefitted patients in hospital can be deployed in the home and care home. He will explain how they can deliver more patient-focused and personalised solutions\, but there are questions that researchers need to answer so we can understand how best to develop this model of care. \nKey Speaker: Professor Dan Lasserson\nClinical Lead\, Acute Hospital at Home Service\, Oxford University Hospitals\, Professor of Acute Ambulatory Care\, University of Warwick and sub-theme lead within the Digital Health from Hospital at Home Theme of the Oxford Biomedical Research Centre (BRC).
URL:https://oxfordbrc.nihr.ac.uk/brc-event/technology-for-acute-medical-care-at-home-can-we-really-replace-the-hospital/
LOCATION:Said Business School\, University of Oxford\, Park End St\,\, Oxford\, OX1 1HP
CATEGORIES:Public Events
END:VEVENT
END:VCALENDAR