BEGIN:VCALENDAR
VERSION:2.0
PRODID:-//NIHR Oxford Biomedical Research Centre - ECPv6.15.12.2//NONSGML v1.0//EN
CALSCALE:GREGORIAN
METHOD:PUBLISH
X-WR-CALNAME:NIHR Oxford Biomedical Research Centre
X-ORIGINAL-URL:https://oxfordbrc.nihr.ac.uk
X-WR-CALDESC:Events for NIHR Oxford Biomedical Research Centre
REFRESH-INTERVAL;VALUE=DURATION:PT1H
X-Robots-Tag:noindex
X-PUBLISHED-TTL:PT1H
BEGIN:VTIMEZONE
TZID:Europe/London
BEGIN:DAYLIGHT
TZOFFSETFROM:+0000
TZOFFSETTO:+0100
TZNAME:BST
DTSTART:20250330T010000
END:DAYLIGHT
BEGIN:STANDARD
TZOFFSETFROM:+0100
TZOFFSETTO:+0000
TZNAME:GMT
DTSTART:20251026T010000
END:STANDARD
BEGIN:DAYLIGHT
TZOFFSETFROM:+0000
TZOFFSETTO:+0100
TZNAME:BST
DTSTART:20260329T010000
END:DAYLIGHT
BEGIN:STANDARD
TZOFFSETFROM:+0100
TZOFFSETTO:+0000
TZNAME:GMT
DTSTART:20261025T010000
END:STANDARD
BEGIN:DAYLIGHT
TZOFFSETFROM:+0000
TZOFFSETTO:+0100
TZNAME:BST
DTSTART:20270328T010000
END:DAYLIGHT
BEGIN:STANDARD
TZOFFSETFROM:+0100
TZOFFSETTO:+0000
TZNAME:GMT
DTSTART:20271031T010000
END:STANDARD
END:VTIMEZONE
BEGIN:VEVENT
DTSTART;TZID=Europe/London:20260506T080000
DTEND;TZID=Europe/London:20260508T160000
DTSTAMP:20260425T154727
CREATED:20260210T164146Z
LAST-MODIFIED:20260422T173354Z
UID:21455-1778054400-1778256000@oxfordbrc.nihr.ac.uk
SUMMARY:NIHR BRC Oxford three-day writing retreat (6\, 7 and 8 May 2026)
DESCRIPTION:This three-day writing retreat is open to all healthcare professions (nurses\, midwives\, allied health professionals\, clinical psychologists\, pharmacists\, healthcare scientists and medical practitioners) at any career stage\, working at Oxford University Hospitals NHS Foundation Trust or the University of Oxford. Priority will however be given to underrepresented professions as defined by NIHR. If you have attended this retreat previously\, you are welcome to apply however\, priority will be given to those who have not attended before. \n\n\n\n\nThis retreat offers time and space to focus on writing without interruption. It will also help you to become more aware of your writing processes and use this to help you write more productively. \n\n\n\nDates: Wednesday 6\, Thursday 7 and Friday 8 May 2026 \n\n\n\nVenue: Wolfson College\, Linton Road\, Oxford OX2 6UD. \n\n\n\nAttendees are required to attend all three days. \n\n\n\nCore hours will be 10:00 to 16:00. However\, on days 1 and 2 you are welcome to arrive any time from 8am to begin writing and remain on site until 6pm. On day 3\, the space will be available from 8am to 4pm. \n\n\n\nWriting projects that could be worked on during the retreat include: \n\n\n\n\nDoctoral thesis chapter(s)\n\n\n\nMaster’s dissertation chapter(s)\n\n\n\nPaper for a peer-reviewed journal from a completed piece of research\, service evaluation\, quality improvement\, audit\, or literature review\n\n\n\nDevelopment of a research proposal for future application\n\n\n\nAnalysing data that will form part of a report or publication\n\n\n\n\nWe will provide a mentor to guide you with your writing. A librarian will be available to provide advice and support related to referencing and literature searching. To get the most out of the event it is important that you come ready to write from the very start of day one. Therefore\, you will need to send your mentor an outline of what you plan to write\, up to 3 SMART goals and the outcomes you aim to achieve by the end of the writing retreat. \n\n\n\nYou need to have your line manager’s support and permission to attend. \n\n\n\nLunch and refreshments will be provided. \n\n\n\nThere is no parking at Wolfson College. The closest park and ride to Wolfson College\, Oxford\, is Oxford Parkway (OX2 8HA). From there\, or from the city centre\, the number 2 or 2A bus (operated by Oxford Bus Company) travels to the Linton Road stop\, which is a 5-minute walk from the college. \n\n\n\n\n\nThe deadline for application is Sunday 29 March 2026. Please put a hold in your diary until you are informed of your application outcome\, which will be on Tuesday 7 April. \n\n\n\nThe writing retreat is sponsored by the NIHR Biomedical Research Centre: Oxford (BRC). \n\n\n\nIf you have any questions\, please contact Dr Clair Merriman at clair.merriman@ouh.nhs.uk. \n\n\n\nApplications will be assessed on whether: \n\n\n\n\nyou fall within the underrepresented professions as defined by the NIHR.\n\n\n\nthe line manager has given approval to attend\n\n\n\nthe writing project goal is appropriate for the three-day retreat\n\n\n\nthe stated objectives are achievable in the three days\n\n\n\nthe applicant can commit to all three days\n\n\n\nyou have previously attended Writing Retreat
URL:https://oxfordbrc.nihr.ac.uk/brc-event/nihr-oxford-brc-three-day-writing-retreat-6-7-and-8-may-2026/
CATEGORIES:Academic Events,NIHR-BHF events,Training Events & Courses
END:VEVENT
BEGIN:VEVENT
DTSTART;TZID=Europe/London:20260521T103000
DTEND;TZID=Europe/London:20260521T120000
DTSTAMP:20260425T154727
CREATED:20260424T162246Z
LAST-MODIFIED:20260424T162849Z
UID:21625-1779359400-1779364800@oxfordbrc.nihr.ac.uk
SUMMARY:Socio-economic Disadvantage Inclusion Training
DESCRIPTION:Online Training: Socio-economic Disadvantage Inclusion Training with Dr. Heidi R. Green \n\n\n\nAn informative session (online) on practical tools for socio-economic disadvantage inclusion in health research. This event is a fantastic opportunity to enhance your approach to including people and communities from diverse ethnicities in your research. \n\n\n\n\nRegister to reserve your place\n\n\n\n\nSpeakers: \n\n\n\nDr Heidi Green is a Health Equity and Patient Involvement Specialist and a Creative Qualitative Researcher who co-developed the NIHR INCLUDE Socio-economic disadvantage framework\, which has been designed to aid researchers\, who are designing clinical trials\, to consider barriers to including patients from socioeconomically disadvantaged backgrounds in their trial. There will be lots of opportunities for you to ask questions from experienced and knowledgeable speakers to support your research. \n\n\n\nONLINE EVENT Hosted by BRC: Oxford Health. For any questions about this session\, please contact: \n\n\n\nAny queries\, please contact: Andreia Costa\, Project Manager: training.ohbrc@psych.ox.ac.uk \n\n\n\n\n\n\n\nThis is part of our Summer online series of Inclusivity training for Health and Care Researchers. \n\n\n\nWe’re collaborating with five other NIHR Biomedical Research Centres: Oxford Health\, Barts\, Birmingham\, Cambridge\, Moorfields\, to bring you a series of engaging online training sessions with experts and researchers to help embed inclusion in your research \n\n\n\nPlease add the following date to your diary and info. below for the last training session this summer: \n\n\n\n11th June 2026: Partnerships\, Planning and Service Provision: Case Studies in Inclusive Research with Cherish Boxall:Register here. \n\n\n\nOnline Inclusivity in Research Training\n\n\n\nThese sessions are for research staff affiliated with the following Biomedical Research Centres: Barts\, Birmingham\, Cambridge\, Moorfields\, Oxford and Oxford Health \n\n\n\nPrivacy Notice: We adhere to the UK’s Data Protection Act 2018-https://ico.org.uk/for-organisations/data-protection-and-the-eu/data-protection-and-the-eu-in-detail/the-uk-gdpr/. Any data collected is used to improve services. \n\n\n\nPrivacy Statement NIHR – https://www.nihr.ac.uk/nihr-privacy-policy 
URL:https://oxfordbrc.nihr.ac.uk/brc-event/socio-economic-disadvantage-inclusion-training/
CATEGORIES:Academic Events,PPI Training for Researchers,Training Events & Courses,Training for Clinical Researchers
ATTACH;FMTTYPE=image/jpeg:https://oxfordbrc.nihr.ac.uk/wp-content/uploads/2026/03/IMAGE-A4-Poster-Inclusivity-training-May-June-2026-sans-buttons-scaled.jpg
END:VEVENT
END:VCALENDAR